BEGIN:VCALENDAR
VERSION:2.0
PRODID:-//Cykelklubben UNI - ECPv6.15.20//NONSGML v1.0//EN
CALSCALE:GREGORIAN
METHOD:PUBLISH
X-WR-CALNAME:Cykelklubben UNI
X-ORIGINAL-URL:https://ckuni.se
X-WR-CALDESC:Händelser för Cykelklubben UNI
REFRESH-INTERVAL;VALUE=DURATION:PT1H
X-Robots-Tag:noindex
X-PUBLISHED-TTL:PT1H
BEGIN:VTIMEZONE
TZID:Europe/Stockholm
BEGIN:DAYLIGHT
TZOFFSETFROM:+0100
TZOFFSETTO:+0200
TZNAME:CEST
DTSTART:20250330T010000
END:DAYLIGHT
BEGIN:STANDARD
TZOFFSETFROM:+0200
TZOFFSETTO:+0100
TZNAME:CET
DTSTART:20251026T010000
END:STANDARD
BEGIN:DAYLIGHT
TZOFFSETFROM:+0100
TZOFFSETTO:+0200
TZNAME:CEST
DTSTART:20260329T010000
END:DAYLIGHT
BEGIN:STANDARD
TZOFFSETFROM:+0200
TZOFFSETTO:+0100
TZNAME:CET
DTSTART:20261025T010000
END:STANDARD
BEGIN:DAYLIGHT
TZOFFSETFROM:+0100
TZOFFSETTO:+0200
TZNAME:CEST
DTSTART:20270328T010000
END:DAYLIGHT
BEGIN:STANDARD
TZOFFSETFROM:+0200
TZOFFSETTO:+0100
TZNAME:CET
DTSTART:20271031T010000
END:STANDARD
END:VTIMEZONE
BEGIN:VEVENT
DTSTART;TZID=Europe/Stockholm:20260423T180000
DTEND;TZID=Europe/Stockholm:20260423T200000
DTSTAMP:20260422T111244
CREATED:20260414T104552Z
LAST-MODIFIED:20260415T065629Z
UID:2174-1776967200-1776974400@ckuni.se
SUMMARY:Introcykling
DESCRIPTION:Har du inte cyklat i grupp och vill testa det? Då är du välkommen att vara med på vår introduktionscykling. Träningen är till för dig som har en landsvägscykel men saknar vara av att cykla i grupp. Vi tränar på hur man växlar i en grupp och hur du blir en säkrare cyklist. \nVi träffas vid Vindbron\, två kilometer söder om Studenternas IP. Det finns parkering. \nDet blir lite teknikträning på Vindbrovägen innan vi cyklar ut på en lugn runda. Farten anpassas efter deltagare\, alla ska med. Vi kommer vara tillbaka vid Vindbron senast 20:00. \nAlla behöver ta med: – Extra slang – liten pump – Telefonnummer till nödkontakt – Energi (dryck/ätbart) – Lampor det kommer mörkna mot slutet. Obs! Hjälm är obligatoriskt. \nDu behöver inte vara medlem i CK Uni för att vara med vid 1-2 tillfällen\, men kommer du med fler gånger vill vi gärna att du blir medlem. Det kostar 300kr för ett helår. \nFrågor? Kan skickas till info@ckuni.com. \nI evenemanget på Fb får du/ni gärna lägga ett meddelande om att du troligen kommer\, det för att underlätta för oss ledare. \nFör dig som varit med vid minst ett tidigare tillfälle planerar vi att lördag 23 maj köra en lite längre “fikacykling”. \n  \nVälkomna hälsar Ann och Åsa
URL:https://ckuni.se/traning/introcykling-3/
LOCATION:Vindbron\, Vindbron\, Västra Vindbrovägen\, Uppsala\, 756 51\, Sweden
CATEGORIES:Landsväg
ATTACH;FMTTYPE=image/jpeg:https://ckuni.se/wp-content/uploads/2026/04/20210511_195907-3-scaled.jpg
END:VEVENT
BEGIN:VEVENT
DTSTART;TZID=Europe/Stockholm:20260423T180000
DTEND;TZID=Europe/Stockholm:20260423T200000
DTSTAMP:20260422T111244
CREATED:20260421T085951Z
LAST-MODIFIED:20260421T085951Z
UID:2316-1776967200-1776974400@ckuni.se
SUMMARY:Torsdagsträning LVG
DESCRIPTION:Gruppcykling med fokus på effektiv och säker körning i klunga. Farten kommer att hållas kring 30-32 km/h med möjlighet till snabbare körning sista milen. \nRutten är enkel\, gamla E4 ut till Vendel och hem igen. Allt för att kunna få en så jämn körning som möjligt där vi kan träna på att vara så aerodynamiska tillsammans. \nBlir vi många så delar vi upp efter fart. \nVälkomna i vårvärmen! \n/Magnus \n 
URL:https://ckuni.se/traning/torsdagstraning-lvg/
LOCATION:Goda Samvetet\, Husbyborgsvägen 1\, Uppsala
CATEGORIES:Landsväg
ATTACH;FMTTYPE=image/jpeg:https://ckuni.se/wp-content/uploads/2026/04/87b0b2a9-81a5-46a3-9e2e-f01cd1aedf55-1_all_15654.jpg
END:VEVENT
BEGIN:VEVENT
DTSTART;TZID=Europe/Stockholm:20260428T180000
DTEND;TZID=Europe/Stockholm:20260428T200000
DTSTAMP:20260422T111244
CREATED:20260414T103649Z
LAST-MODIFIED:20260414T103649Z
UID:2169-1777399200-1777406400@ckuni.se
SUMMARY:Introcykling
DESCRIPTION:Har du inte cyklat i grupp och vill testa det? Då är du välkommen att vara med på vår introduktionscykling. Träningen är till för dig som har en landsvägscykel men saknar vara av att cykla i grupp. Vi tränar på hur man växlar i en grupp och hur du blir en säkrare cyklist. \nVi träffas vid Vindbron\, två kilometer söder om Studenternas IP. \nDet blir lite teknikträning på Vindbrovägen innan vi cyklar ut på en lugn runda. Farten anpassas efter deltagare\, alla ska med. Vi kommer vara tillbaka vid Vindbron senast 20:00. \nAlla behöver ta med: – Extra slang – liten pump – Telefonnummer till nödkontakt – Energi (dryck/ätbart) – Lampor det kommer mörkna mot slutet. Obs! Hjälm är obligatoriskt. \nDu behöver inte vara medlem i CK Uni för att vara med vid 1-2 tillfällen\, men kommer du med fler gånger vill vi gärna att du blir medlem. Det kostar 300kr för ett helår. \nFrågor? kan skickas till info@ckuni.com. \nI evenemanget på Fb får du/ni gärna lägga ett meddelande om att du troligen kommer\, det för att underlätta för oss ledare. \nFör dig som varit med vid minst ett tidigare tillfälle planerar vi att lördag 23 maj köra en lite längre “fikacykling”. \n  \nVälkomna hälsar Ann\, Perra och Åsa
URL:https://ckuni.se/traning/introcykling-2/
LOCATION:Vindbron\, Vindbron\, Västra Vindbrovägen\, Uppsala\, 756 51\, Sweden
CATEGORIES:Landsväg
ATTACH;FMTTYPE=image/jpeg:https://ckuni.se/wp-content/uploads/2026/04/20210511_195907-2-scaled.jpg
END:VEVENT
BEGIN:VEVENT
DTSTART;TZID=Europe/Stockholm:20260505T180000
DTEND;TZID=Europe/Stockholm:20260505T200000
DTSTAMP:20260422T111244
CREATED:20260414T172202Z
LAST-MODIFIED:20260414T172202Z
UID:2195-1778004000-1778011200@ckuni.se
SUMMARY:Introcykling
DESCRIPTION:Har du inte cyklat i grupp och vill testa det? Då är du välkommen att vara med på vår introduktionscykling. Träningen är till för dig som har en landsvägscykel men saknar vara av att cykla i grupp. Vi tränar på hur man växlar i en grupp och hur du blir en säkrare cyklist. \nVi träffas vid “Goda Samvetet”. Det finns parkering. \nDet blir lite teknikträning på Vindbrovägen innan vi cyklar ut på en lugn runda. Farten anpassas efter deltagare\, alla ska med. Vi kommer vara tillbaka vid Goda Samvetet till kl. 20:00. \nAlla behöver ta med: – Extra slang – liten pump – Telefonnummer till nödkontakt – Energi (dryck/ätbart). Obs! Hjälm är obligatoriskt. \nDu behöver inte vara medlem i CK Uni för att vara med vid 1-2 tillfällen\, men kommer du med fler gånger vill vi gärna att du blir medlem. Det kostar 300kr för ett helår. \nFrågor? kan skickas till info@ckuni.com. \nI evenemanget på Fb får du/ni gärna lägga ett meddelande om att du troligen kommer\, det för att underlätta för oss ledare. \nFör dig som varit med vid minst ett tidigare tillfälle planerar vi att lördag 23 maj köra en lite längre “fikacykling”. \n  \nVälkomna hälsar Ann\,  Åsa och Per
URL:https://ckuni.se/traning/introcykling-4/
LOCATION:Goda Samvetet\, Husbyborgsvägen 1\, Uppsala
CATEGORIES:Landsväg
ATTACH;FMTTYPE=image/jpeg:https://ckuni.se/wp-content/uploads/2026/04/FB_IMG_1593284475067.jpg
END:VEVENT
BEGIN:VEVENT
DTSTART;TZID=Europe/Stockholm:20260512T180000
DTEND;TZID=Europe/Stockholm:20260512T200000
DTSTAMP:20260422T111244
CREATED:20260414T172350Z
LAST-MODIFIED:20260414T172350Z
UID:2200-1778608800-1778616000@ckuni.se
SUMMARY:Introcykling
DESCRIPTION:Har du inte cyklat i grupp och vill testa det? Då är du välkommen att vara med på vår introduktionscykling. Träningen är till för dig som har en landsvägscykel men saknar vara av att cykla i grupp. Vi tränar på hur man växlar i en grupp och hur du blir en säkrare cyklist. \nVi träffas vid Vindbron\, två kilometer söder om Studenternas IP. Det finns parkering. \nDet blir lite teknikträning på Vindbrovägen innan vi cyklar ut på en lugn runda. Farten anpassas efter deltagare\, alla ska med. Vi kommer vara tillbaka vid Vindbron senast 20:00. \nAlla behöver ta med: – Extra slang – liten pump – Telefonnummer till nödkontakt – Energi (dryck/ätbart) – Lampor det kommer mörkna mot slutet. Obs! Hjälm är obligatoriskt. \nDu behöver inte vara medlem i CK Uni för att vara med vid 1-2 tillfällen\, men kommer du med fler gånger vill vi gärna att du blir medlem. Det kostar 300kr för ett helår. \nFrågor? kan skickas till info@ckuni.com. \nI evenemanget på Fb får du/ni gärna lägga ett meddelande om att du troligen kommer\, det för att underlätta för oss ledare. \nFör dig som varit med vid minst ett tidigare tillfälle planerar vi att lördag 23 maj köra en lite längre “fikacykling”. \n  \nVälkomna hälsar Ann\, Per och Åsa
URL:https://ckuni.se/traning/introcykling-5/
LOCATION:Goda Samvetet\, Husbyborgsvägen 1\, Uppsala
CATEGORIES:Landsväg
ATTACH;FMTTYPE=image/jpeg:https://ckuni.se/wp-content/uploads/2026/04/FB_IMG_1593284446514.jpg
END:VEVENT
END:VCALENDAR